BEGIN:VCALENDAR
VERSION:2.0
PRODID:-//Church of the Cove - ECPv6.15.20//NONSGML v1.0//EN
CALSCALE:GREGORIAN
METHOD:PUBLISH
X-WR-CALNAME:Church of the Cove
X-ORIGINAL-URL:https://churchofthecove.org
X-WR-CALDESC:Events for Church of the Cove
REFRESH-INTERVAL;VALUE=DURATION:PT1H
X-Robots-Tag:noindex
X-PUBLISHED-TTL:PT1H
BEGIN:VTIMEZONE
TZID:America/New_York
BEGIN:DAYLIGHT
TZOFFSETFROM:-0500
TZOFFSETTO:-0400
TZNAME:EDT
DTSTART:20200308T070000
END:DAYLIGHT
BEGIN:STANDARD
TZOFFSETFROM:-0400
TZOFFSETTO:-0500
TZNAME:EST
DTSTART:20201101T060000
END:STANDARD
BEGIN:DAYLIGHT
TZOFFSETFROM:-0500
TZOFFSETTO:-0400
TZNAME:EDT
DTSTART:20210314T070000
END:DAYLIGHT
BEGIN:STANDARD
TZOFFSETFROM:-0400
TZOFFSETTO:-0500
TZNAME:EST
DTSTART:20211107T060000
END:STANDARD
BEGIN:DAYLIGHT
TZOFFSETFROM:-0500
TZOFFSETTO:-0400
TZNAME:EDT
DTSTART:20220313T070000
END:DAYLIGHT
BEGIN:STANDARD
TZOFFSETFROM:-0400
TZOFFSETTO:-0500
TZNAME:EST
DTSTART:20221106T060000
END:STANDARD
END:VTIMEZONE
BEGIN:VEVENT
DTSTART;TZID=America/New_York:20210413T083000
DTEND;TZID=America/New_York:20210413T170000
DTSTAMP:20260419T163620
CREATED:20210323T170346Z
LAST-MODIFIED:20210323T170346Z
UID:10002372-1618302600-1618333200@churchofthecove.org
SUMMARY:Crossville Mission Bible Training Center
DESCRIPTION:Crossville Mission Bible Training Center\nTuesday\, April 13th leaving the church at 8:30am\nEveryone is welcome to go! We have the great honor of ministering to the individuals going through this process. While we are there we have a testimony\, serve lunch and provide the center with much needed cleaning supplies. We would love to be able to share home-made desserts at lunch. If you are able to make a dessert\, please have it in the church kitchen before 8:30am or get with Marcia Thacker to make arrangements.
URL:https://churchofthecove.org/event/crossville-mission-bible-training-center-6/
LOCATION:CMBTC 3889 Sparta Hwy Crossville T 38572
END:VEVENT
END:VCALENDAR