BEGIN:VCALENDAR
VERSION:2.0
PRODID:-//Church of the Cove - ECPv6.15.20//NONSGML v1.0//EN
CALSCALE:GREGORIAN
METHOD:PUBLISH
X-ORIGINAL-URL:https://churchofthecove.org
X-WR-CALDESC:Events for Church of the Cove
REFRESH-INTERVAL;VALUE=DURATION:PT1H
X-Robots-Tag:noindex
X-PUBLISHED-TTL:PT1H
BEGIN:VTIMEZONE
TZID:America/New_York
BEGIN:DAYLIGHT
TZOFFSETFROM:-0500
TZOFFSETTO:-0400
TZNAME:EDT
DTSTART:20230312T070000
END:DAYLIGHT
BEGIN:STANDARD
TZOFFSETFROM:-0400
TZOFFSETTO:-0500
TZNAME:EST
DTSTART:20231105T060000
END:STANDARD
BEGIN:DAYLIGHT
TZOFFSETFROM:-0500
TZOFFSETTO:-0400
TZNAME:EDT
DTSTART:20240310T070000
END:DAYLIGHT
BEGIN:STANDARD
TZOFFSETFROM:-0400
TZOFFSETTO:-0500
TZNAME:EST
DTSTART:20241103T060000
END:STANDARD
BEGIN:DAYLIGHT
TZOFFSETFROM:-0500
TZOFFSETTO:-0400
TZNAME:EDT
DTSTART:20250309T070000
END:DAYLIGHT
BEGIN:STANDARD
TZOFFSETFROM:-0400
TZOFFSETTO:-0500
TZNAME:EST
DTSTART:20251102T060000
END:STANDARD
END:VTIMEZONE
BEGIN:VEVENT
DTSTART;TZID=America/New_York:20241215T180000
DTEND;TZID=America/New_York:20241215T193000
DTSTAMP:20260425T160906
CREATED:20241105T163639Z
LAST-MODIFIED:20241202T193129Z
UID:10002913-1734285600-1734291000@churchofthecove.org
SUMMARY:Cove Christmas
DESCRIPTION:Join us for fun and fellowship. \nOur very own Cove Kids will be performing. \nCookies and Hot Chocolate will be served.
URL:https://churchofthecove.org/event/cove-christmas-5/
LOCATION:642 Wears Valley Road Townsend\, TN 37882
CATEGORIES:Front Page,Kidz
ATTACH;FMTTYPE=image/png:https://churchofthecove.org/wp-content/uploads/2024/11/CMG-Designer-5-1.png
END:VEVENT
END:VCALENDAR