BEGIN:VCALENDAR
VERSION:2.0
PRODID:-//Church of the Cove - ECPv6.15.20//NONSGML v1.0//EN
CALSCALE:GREGORIAN
METHOD:PUBLISH
X-WR-CALNAME:Church of the Cove
X-ORIGINAL-URL:https://churchofthecove.org
X-WR-CALDESC:Events for Church of the Cove
REFRESH-INTERVAL;VALUE=DURATION:PT1H
X-Robots-Tag:noindex
X-PUBLISHED-TTL:PT1H
BEGIN:VTIMEZONE
TZID:America/New_York
BEGIN:DAYLIGHT
TZOFFSETFROM:-0500
TZOFFSETTO:-0400
TZNAME:EDT
DTSTART:20230312T070000
END:DAYLIGHT
BEGIN:STANDARD
TZOFFSETFROM:-0400
TZOFFSETTO:-0500
TZNAME:EST
DTSTART:20231105T060000
END:STANDARD
BEGIN:DAYLIGHT
TZOFFSETFROM:-0500
TZOFFSETTO:-0400
TZNAME:EDT
DTSTART:20240310T070000
END:DAYLIGHT
BEGIN:STANDARD
TZOFFSETFROM:-0400
TZOFFSETTO:-0500
TZNAME:EST
DTSTART:20241103T060000
END:STANDARD
BEGIN:DAYLIGHT
TZOFFSETFROM:-0500
TZOFFSETTO:-0400
TZNAME:EDT
DTSTART:20250309T070000
END:DAYLIGHT
BEGIN:STANDARD
TZOFFSETFROM:-0400
TZOFFSETTO:-0500
TZNAME:EST
DTSTART:20251102T060000
END:STANDARD
END:VTIMEZONE
BEGIN:VEVENT
DTSTART;TZID=America/New_York:20240330T150000
DTEND;TZID=America/New_York:20240330T170000
DTSTAMP:20260423T183750
CREATED:20240319T134433Z
LAST-MODIFIED:20240319T134533Z
UID:10002337-1711810800-1711818000@churchofthecove.org
SUMMARY:Easter Egg Hut
DESCRIPTION:Community wide \nAges 12 and Under \nFood\, Crafts and Games
URL:https://churchofthecove.org/event/easter-egg-hut/
LOCATION:642 Wears Valley Road Townsend\, TN 37882
CATEGORIES:Front Page,Kidz
ATTACH;FMTTYPE=image/jpeg:https://churchofthecove.org/wp-content/uploads/2024/03/facebook_1710816266701_7175683510692624045.jpg
END:VEVENT
END:VCALENDAR